BEGIN:VCALENDAR
VERSION:2.0
PRODID:-//ChamberMaster//Event Calendar 2.0//EN
METHOD:PUBLISH
X-PUBLISHED-TTL:P3D
REFRESH-INTERVAL:P3D
CALSCALE:GREGORIAN
BEGIN:VEVENT
DTSTART:20170822T120000Z
DTEND:20170822T130000Z
X-MICROSOFT-CDO-ALLDAYEVENT:FALSE
SUMMARY:Westfield Division
DESCRIPTION:BRIAN KRONENBERGER\, CHAIRMAN \n\nInvites you to\n\nWESTFIELD DIVISION MEETING\n\nAUGUST 22\, 2017\n\n \n\nHosted by\n\nMAKIARIS MEDIA SERVICES & OFFICEPLACE\n\nAT\n\nCENTERPOINT CONNECTICUT\n\n101 Centerpoint Drive\, Middletown\n\n(2nd Floor Conference Room)\n\n \n\n7:45 a.m.   9:00 a.m.\n\n \n\n	At this meeting Bill Robb\, Project Manager at Barton Malow Construction Company and a Representative from FedEx Ground will provide a progress update on the new 525\,000 square-foot state-of-the-art Distribution Hub\, which is currently under construction.  Please make every effort to attend this important meeting and there will be Q & A as time allows!\n\n\n\n	City Updates will be given by:\n\n      MAYOR DAN DREW\n\nAnd the following City Departments:\n\n\n	Planning Office\n	Police Dept.\n	Public Works \n	Westfield Fire Dept.\n\n\n\n	Find out the latest information about the Chamber!\n\n\n\n	A continental breakfast will be provided\, courtesy of Makiaris Media Services & OfficePlace!\n\nNetwork with other members of the Middletown business community and surrounding areas
X-ALT-DESC;FMTTYPE=text/html:<br />\n<span style="font-size:14px\;"><span style="font-family:arial\;"><strong><span style="color:#0070C0\;">BRIAN KRONENBERGER\, CHAIRMAN </span></strong><br />\nInvites you to<br />\n<strong><span style="color:#0070C0\;">WESTFIELD DIVISION MEETING</span></strong><br />\n<strong>AUGUST 22\, 2017</strong><br />\n&nbsp\;<br />\n<strong>Hosted by</strong><br />\n<strong>MAKIARIS MEDIA SERVICES &amp\; OFFICEPLACE</strong><br />\nAT<br />\n<strong><span style="color:#0070C0\;">CENTERPOINT CONNECTICUT</span></strong><br />\n101 Centerpoint Drive\, Middletown<br />\n(2<sup>nd</sup> Floor Conference Room)<br />\n&nbsp\;<br />\n<strong>7:45 a.m. &ndash\; 9:00 a.m.</strong><br />\n&nbsp\;</span></span>\n<ul>\n	<li><span style="font-size:14px\;"><span style="font-family:arial\;">At this meeting <strong>Bill Robb\, Project Manager </strong>at<strong> Barton Malow Construction Company</strong> and a <strong>Representative from FedEx Ground</strong> will provide a progress update on the new 525\,000 square-foot state-of-the-art <strong>Distribution Hub</strong>\, which is currently under construction.&nbsp\; Please make every effort to attend this important meeting and there will be Q &amp\; A as time allows!</span></span></li>\n</ul>\n\n<ul>\n	<li><span style="font-size:14px\;"><span style="font-family:arial\;">City Updates will be given by:</span></span></li>\n</ul>\n<span style="font-size:14px\;"><span style="font-family:arial\;"><strong>&nbsp\;&nbsp\;&nbsp\;&nbsp\;&nbsp\; MAYOR DAN DREW</strong><br />\nAnd the following City Departments:</span></span>\n\n<ul style="list-style-type:circle\;">\n	<li><span style="font-size:14px\;"><span style="font-family:arial\;"><strong>Planning Office</strong></span></span></li>\n	<li><span style="font-size:14px\;"><span style="font-family:arial\;"><strong>Police Dept.</strong></span></span></li>\n	<li><span style="font-size:14px\;"><span style="font-family:arial\;"><strong>Public Works </strong></span></span></li>\n	<li><span style="font-size:14px\;"><span style="font-family:arial\;"><strong>Westfield Fire Dept.</strong></span></span></li>\n</ul>\n\n<ul>\n	<li><span style="font-size:14px\;"><span style="font-family:arial\;">Find out the latest information about the Chamber!</span></span></li>\n</ul>\n\n<ul>\n	<li><span style="font-size:14px\;"><span style="font-family:arial\;">A<strong> continental breakfast</strong> will be provided\, courtesy of <strong>Makiaris Media Services &amp\; OfficePlace</strong>!</span></span></li>\n</ul>\n<span style="font-size:14px\;"><span style="font-family:arial\;">Network with other members of the Middletown business community and surrounding areas</span></span><br />\n&nbsp\;
LOCATION:Centerpoint Connecticut 101 Centerpoint Drive Middletown\, CT
UID:e.1932.4565
SEQUENCE:3
DTSTAMP:20260425T120009Z
URL:http://middlesexchamber.chambermaster.com/events/details/westfield-division-4565
END:VEVENT

END:VCALENDAR
