BEGIN:VCALENDAR
VERSION:2.0
PRODID:-//ChamberMaster//Event Calendar 2.0//EN
METHOD:PUBLISH
X-PUBLISHED-TTL:P3D
REFRESH-INTERVAL:P3D
CALSCALE:GREGORIAN
BEGIN:VEVENT
DTSTART:20171125T010000Z
DTEND:20171125T030000Z
X-MICROSOFT-CDO-ALLDAYEVENT:FALSE
SUMMARY:The Coconuts
DESCRIPTION:New England's Legendary Comedy Rock Band\n\nJohnny Eagle (vocals\, blues harp\, kazoo\, percussion)\, Joe Beetz (guitar\, vocals)\, Sal Monella (bass guitar\, vocals\, trumpet)
X-ALT-DESC;FMTTYPE=text/html:<span style="color:rgb(68\, 68\, 68)\; font-family:open sans\,sans-serif\; font-size:15px">New England&rsquo\;s Legendary Comedy Rock Band</span><br />\n<span style="color:rgb(68\, 68\, 68)\; font-family:open sans\,sans-serif\; font-size:15px">Johnny Eagle (vocals\, blues harp\, kazoo\, percussion)\, Joe Beetz (guitar\, vocals)\, Sal Monella (bass guitar\, vocals\, trumpet)</span>
LOCATION:The Buttonwood Tree 605 Main Street Middletown\, CT
UID:e.1932.4736
SEQUENCE:3
DTSTAMP:20260423T154911Z
URL:http://middlesexchamber.chambermaster.com/events/details/the-coconuts-4736
END:VEVENT

END:VCALENDAR
