BEGIN:VCALENDAR
VERSION:2.0
PRODID:-//ChamberMaster//Event Calendar 2.0//EN
METHOD:PUBLISH
X-PUBLISHED-TTL:P3D
REFRESH-INTERVAL:P3D
CALSCALE:GREGORIAN
BEGIN:VEVENT
DTSTART:20171114T181500Z
DTEND:20171114T191500Z
X-MICROSOFT-CDO-ALLDAYEVENT:FALSE
SUMMARY:Step into The Vortex**
DESCRIPTION:Lead By Theresa Govert\n\n \n\nJoin us for a fun\, accessible and supportive Hatha Yoga class that brings awareness to breathing\, intention to movement and an emphasis on inner wisdom and body positivity. You will leave feeling connected and empowered!\n\n \n\nTheresa Govert is a yoga instructor and feminist activist based out of East Haddam\, CT. She is a Registered Yoga Teacher (RYT) with Yoga Alliance and is insured with Alliant Insurance Services\, Inc. She has studied and practiced meditation and yoga in the USA and Southern Africa and completed her 200 hour yoga teacher training in Rishikesh\, India at Rishikesh Yog Peeth. Along with group classes and individual sessions\, Theresa leads workshops bringing together yoga\, feminism & activism and yoga hikes.\n\n\nFor Theresa\, yoga has been a journey back into her own body- celebrating it for movement\, strength and life rather than hating it for not being perfect enough. Theresa believes that yoga is for everyBODY regardless of size\, gender\, race\, ability\, etc. She's excited to make the gifts of community\, connection\, movement and yoga available to all.\n\n\nThe Inverted Tree Yogi is rooted in the belief that both in yoga and in our daily lives we benefit by moving our roots\, gaining new perspectives and nourishing that which is essential to us.
X-ALT-DESC;FMTTYPE=text/html:<h1>Lead By Theresa Govert</h1>\n\n<div>&nbsp\;</div>\n\n<div><strong>Join us for a fun\, accessible and supportive Hatha&nbsp\;<span style="font-family: inherit\;">Yoga</span>&nbsp\;class that brings awareness to breathing\, intention to movement and an emphasis on inner wisdom and body positivity. You will leave feeling connected and&nbsp\;<span style="font-family: inherit\;">empowered!</span></strong></div>\n\n<div>&nbsp\;</div>\n\n<p>Theresa Govert is a yoga instructor and feminist activist based out of East Haddam\, CT. She is a Registered Yoga Teacher (RYT) with&nbsp\;<a class="m_1802703819418011000gmail-profileLink" href="https://www.facebook.com/yogaalliance/" rel="noopener noreferrer" style="margin: 0px\; padding: 0px\; outline: 0px\; border: 0px currentColor\; transition:0.3s ease-in-out\; border-image: none\; color: rgb(35\, 163\, 143)\; font-family: inherit\; font-style: inherit\; font-weight: inherit\; vertical-align: baseline\; box-sizing: border-box\; text-decoration-line: none\;" target="_blank" title="Yoga Alliance&amp\;nbsp\;">Yoga Alliance&nbsp\;</a>and is insured with&nbsp\;<a class="m_1802703819418011000gmail-profileLink" href="https://www.facebook.com/AlliantInsuranceServices/" rel="noopener noreferrer" style="margin: 0px\; padding: 0px\; outline: 0px\; border: 0px currentColor\; transition:0.3s ease-in-out\; border-image: none\; color: rgb(35\, 163\, 143)\; font-family: inherit\; font-style: inherit\; font-weight: inherit\; vertical-align: baseline\; box-sizing: border-box\; text-decoration-line: none\;" target="_blank" title="Alliant Insurance Services\, Inc.">Alliant Insurance Services\, Inc.</a>&nbsp\;She has studied and practiced meditation and yoga in the USA and Southern Africa and completed her 200 hour yoga teacher training<span style="font-family: inherit\;">&nbsp\;in Rishikesh\, India at Rishikesh Yog Peeth. Along with group classes and individual sessions\, Theresa leads workshops bringing together yoga\, feminism &amp\; activism and yoga hikes.</span></p>\n\n<div>\n<p>For Theresa\, yoga has been a journey back into her own body- celebrating it for movement\, strength and life rather than hating it for not being perfect enough. Theresa believes that yoga is for everyBODY regardless of size\, gender\, race\, ability\, etc. She&rsquo\;s excited to make the gifts of community\, connection\, movement and yoga available to all.</p>\n</div>\n\n<div><strong>The Inverted Tree Yogi</strong>&nbsp\;is rooted in the belief that both in yoga and in our daily lives we benefit by moving our roots\, gaining new perspectives and nourishing that which is essential to us.</div>\n
LOCATION:The Buttonwood Tree 605 main Street MIddletown\, CT
UID:e.1932.4829
SEQUENCE:3
DTSTAMP:20260423T205614Z
URL:http://middlesexchamber.chambermaster.com/events/details/step-into-the-vortex-11-14-2017-4829
END:VEVENT

END:VCALENDAR
