BEGIN:VCALENDAR
VERSION:2.0
PRODID:-//ChamberMaster//Event Calendar 2.0//EN
METHOD:PUBLISH
X-PUBLISHED-TTL:P3D
REFRESH-INTERVAL:P3D
CALSCALE:GREGORIAN
BEGIN:VEVENT
DTSTART:20171111T130000Z
DTEND:20171112T030000Z
X-MICROSOFT-CDO-ALLDAYEVENT:FALSE
SUMMARY:Sharp 5 Jazz Ensemble
DESCRIPTION:Sharp 5 is an ensemble of musicians brought together through the love of jazz.\n\nThe band has a repertoire that includes many styles of jazz from Swing to Latin\, Bebop to Cool\, Blues to Funk. The five members of the ensemble create a warm and enticing sound and are not afraid to push the limits.
X-ALT-DESC;FMTTYPE=text/html:<h1 style="text-align: center\;">Sharp 5 is an ensemble of musicians brought together through the love of jazz.<br />\nThe band has a repertoire that includes many styles of jazz from Swing to Latin\, Bebop to Cool\, Blues to Funk. The five members of the ensemble create a warm and enticing sound and are not afraid to push the limits.</h1>\n
LOCATION:The Buttonwood Tree 605 main Street Middletown\, CT
UID:e.1932.4825
SEQUENCE:3
DTSTAMP:20260423T072525Z
URL:http://middlesexchamber.chambermaster.com/events/details/sharp-5-jazz-ensemble-4825
END:VEVENT

END:VCALENDAR
