BEGIN:VCALENDAR
VERSION:2.0
PRODID:-//ChamberMaster//Event Calendar 2.0//EN
METHOD:PUBLISH
X-PUBLISHED-TTL:P3D
REFRESH-INTERVAL:P3D
CALSCALE:GREGORIAN
BEGIN:VEVENT
DTSTART:20170824T131500Z
DTEND:20170824T141500Z
X-MICROSOFT-CDO-ALLDAYEVENT:FALSE
SUMMARY:Legislative Committee
DESCRIPTION:
X-ALT-DESC;FMTTYPE=text/html:
LOCATION:Radisson Hotel Cromwell 100 Berlin Road Cromwell\, CT
UID:e.1932.4564
SEQUENCE:3
DTSTAMP:20260425T110221Z
URL:http://middlesexchamber.chambermaster.com/events/details/legislative-committee-4564
END:VEVENT

END:VCALENDAR
