BEGIN:VCALENDAR
VERSION:2.0
PRODID:-//ChamberMaster//Event Calendar 2.0//EN
METHOD:PUBLISH
X-PUBLISHED-TTL:P3D
REFRESH-INTERVAL:P3D
CALSCALE:GREGORIAN
BEGIN:VEVENT
DTSTART:20161105T120000Z
DTEND:20161105T140000Z
X-MICROSOFT-CDO-ALLDAYEVENT:FALSE
SUMMARY:American Flag Placement
DESCRIPTION:CT. State VFW is looking for assistance in placing approximately 10\,000 American Flags on gravesites at the State Veteran's Cemetery located on Bow Lane in Middletown which will be the site of the 2:00 pm Veterans Day Ceremony on the 11th.  Assistance will also be needed to remove the American Flags on November 12th which will start around 8:00 am that morning.
X-ALT-DESC;FMTTYPE=text/html:<br />\n<span style="font-size:14px\;"><span style="font-family:arial\;"><span style="color:black\;">CT. State VFW is looking for assistance in placing approximately&nbsp\;10\,000 American Flags on gravesites at the State Veteran&#39\;s Cemetery located on Bow Lane in Middletown which will be the site of the 2:00 pm Veterans Day Ceremony on the 11th.&nbsp\; Assistance will also be needed to remove the American Flags on </span><u><span style="color:black\;">November 12th</span></u> <span style="color:black\;">which will start around 8:00 am that morning.</span> </span></span>
LOCATION:
UID:e.1932.4114
SEQUENCE:3
DTSTAMP:20260426T000947Z
URL:http://middlesexchamber.chambermaster.com/events/details/american-flag-placement-4114
END:VEVENT

END:VCALENDAR
