BEGIN:VCALENDAR
VERSION:2.0
PRODID:-//ChamberMaster//Event Calendar 2.0//EN
METHOD:PUBLISH
X-PUBLISHED-TTL:P3D
REFRESH-INTERVAL:P3D
CALSCALE:GREGORIAN
BEGIN:VEVENT
DTSTART:20171111T153000Z
DTEND:20171111T170000Z
X-MICROSOFT-CDO-ALLDAYEVENT:FALSE
SUMMARY:Aligned with Source An Interactive Workshop & Meditation: Annaita Gandhy
DESCRIPTION:A Spiritual & Holistic Healer from India\, Annaita is experienced in applying varied healing modalities to a wide range of situations. In these inter-active workshops\, Annaita seeks to empower\, sharing her deep understanding of life\, holism and spirituality\, enabling you to rise above life's challenges\, live a healthy\, fulfilled & confident life.\n\nLife is never easy and change must come from within. In today's environment of hardship\, ill-health\, corruption and inequality it is often difficult to see the Light. The purpose of this workshop is to empower you to see yours.\n\nBe the change you wish to see. All you need is Willingness.\n\nThis Week's Topic: Centering Self in Mindfulness\n\nMindfulness: a walking meditation that brings great joy & meaning. Come experience how you too can raise your consciousness to greater heights
X-ALT-DESC;FMTTYPE=text/html:<p>A Spiritual &amp\; Holistic Healer from India\, Annaita is experienced in applying varied healing modalities to a wide range of situations. In these inter-active workshops\, Annaita seeks to empower\, sharing her deep understanding of life\, holism and spirituality\, enabling you to rise above life&rsquo\;s challenges\, live a healthy\, fulfilled &amp\; confident life.</p>\n\n<p>Life is never easy and change must come from within. In today&rsquo\;s environment of hardship\, ill-health\, corruption and inequality it is often difficult to see the Light. The purpose of this workshop is to empower&nbsp\;<em>you</em>&nbsp\;to see&nbsp\;<em>yours</em>.</p>\n\n<p>Be the change you wish to see. All you need is Willingness.</p>\n\n<p>This Week&rsquo\;s Topic: Centering Self in Mindfulness</p>\n\n<p>Mindfulness: a walking meditation that brings great joy &amp\; meaning. Come experience how you too can raise your consciousness to greater heights</p>\n
LOCATION:The Buttonwood Tree 605 main Street Middletown\, CT
UID:e.1932.4824
SEQUENCE:3
DTSTAMP:20260422T190445Z
URL:http://middlesexchamber.chambermaster.com/events/details/aligned-with-source-an-interactive-workshop-meditation-annaita-gandhy-4824
END:VEVENT

END:VCALENDAR
